BEGIN:VCALENDAR
VERSION:2.0
PRODID:-//Stereogun - ECPv5.16.3.1//NONSGML v1.0//EN
CALSCALE:GREGORIAN
METHOD:PUBLISH
X-WR-CALNAME:Stereogun
X-ORIGINAL-URL:https://stereogun.com
X-WR-CALDESC:Events for Stereogun
BEGIN:VTIMEZONE
TZID:Europe/Paris
BEGIN:DAYLIGHT
TZOFFSETFROM:+0100
TZOFFSETTO:+0200
TZNAME:CEST
DTSTART:20180325T010000
END:DAYLIGHT
BEGIN:STANDARD
TZOFFSETFROM:+0200
TZOFFSETTO:+0100
TZNAME:CET
DTSTART:20181028T010000
END:STANDARD
END:VTIMEZONE
BEGIN:VEVENT
DTSTART;TZID=Europe/Paris:70000419T153938
DTEND;TZID=Europe/Paris:70000419T153938
DTSTAMP:20260419T171252
CREATED:20181004T142831Z
LAST-MODIFIED:20181004T143620Z
UID:4321-1539387000 -1539387000 @stereogun.com
SUMMARY:GYPOS
DESCRIPTION:Rock fumarento com laivos do blues mais decadente e lúgubre\nOs GYPOS\, quarteto sediado na capital\, têm na sua formação elementos de Lisboa\, Coimbra e Leicester. Quis assim o destino e o alinhamento dos astros que se juntassem nesta banda o Gil (guitarras e voz)\, o Azul (guitarras)\, o Tony (baixo) e o Fernas (bateria). Para a sua actuação na STEREOGUN os GYPOS trazem debaixo dos braços o seu EP ” Love to hate\, Hate to love”\, trabalho onde encontramos o single “3 Sundays In A Week”. Esta será\, por certo\, uma actuação onde a banda nos mostrará que o seu rock\, denso\, de toada “negra”\, é geminado com alguns sub-géneros como o punk\, o blues ou o post-rock. A descobrir! \n  \nAcesso: 5€ (que revertem 100% a favor das bandas*) + Consumo obrigatório de uma bebida\n* A noite inclui também a prestação ao vivo de IGUANA GARCIA e o dj set de ROBERTO CAETANO (First Breath After Coma) \nAcesso depois dos concertos: 5€ consumíveis
URL:https://stereogun.com/evento/gypos/
CATEGORIES:#concerto,#rock
END:VEVENT
END:VCALENDAR